BEGIN:VCALENDAR
VERSION:2.0
PRODID:-//Kojonkulman Seudun Metsästysseura - ECPv6.15.15//NONSGML v1.0//EN
CALSCALE:GREGORIAN
METHOD:PUBLISH
X-WR-CALNAME:Kojonkulman Seudun Metsästysseura
X-ORIGINAL-URL:https://www.kksms.fi
X-WR-CALDESC:Tapahtumat Kojonkulman Seudun Metsästysseura
REFRESH-INTERVAL;VALUE=DURATION:PT1H
X-Robots-Tag:noindex
X-PUBLISHED-TTL:PT1H
BEGIN:VTIMEZONE
TZID:Europe/Helsinki
BEGIN:DAYLIGHT
TZOFFSETFROM:+0200
TZOFFSETTO:+0300
TZNAME:EEST
DTSTART:20240331T010000
END:DAYLIGHT
BEGIN:STANDARD
TZOFFSETFROM:+0300
TZOFFSETTO:+0200
TZNAME:EET
DTSTART:20241027T010000
END:STANDARD
BEGIN:DAYLIGHT
TZOFFSETFROM:+0200
TZOFFSETTO:+0300
TZNAME:EEST
DTSTART:20250330T010000
END:DAYLIGHT
BEGIN:STANDARD
TZOFFSETFROM:+0300
TZOFFSETTO:+0200
TZNAME:EET
DTSTART:20251026T010000
END:STANDARD
BEGIN:DAYLIGHT
TZOFFSETFROM:+0200
TZOFFSETTO:+0300
TZNAME:EEST
DTSTART:20260329T010000
END:DAYLIGHT
BEGIN:STANDARD
TZOFFSETFROM:+0300
TZOFFSETTO:+0200
TZNAME:EET
DTSTART:20261025T010000
END:STANDARD
END:VTIMEZONE
BEGIN:VEVENT
DTSTART;TZID=Europe/Helsinki:20250713T140000
DTEND;TZID=Europe/Helsinki:20250713T140000
DTSTAMP:20260421T130638
CREATED:20250606T091354Z
LAST-MODIFIED:20250606T091354Z
UID:1251-1752415200-1752415200@www.kksms.fi
SUMMARY:Kanteenmaan metsästysseura
DESCRIPTION:
URL:https://www.kksms.fi/ampumaratapaiva/kanteenmaan-metsastysseura-19/
END:VEVENT
BEGIN:VEVENT
DTSTART;TZID=Europe/Helsinki:20250719T120000
DTEND;TZID=Europe/Helsinki:20250719T160000
DTSTAMP:20260421T130638
CREATED:20240415T115034Z
LAST-MODIFIED:20250415T170050Z
UID:1121-1752926400-1752940800@www.kksms.fi
SUMMARY:Metsämaan metsästysseura
DESCRIPTION:
URL:https://www.kksms.fi/ampumaratapaiva/metsamaan-metsastysseura-32/
END:VEVENT
BEGIN:VEVENT
DTSTART;TZID=Europe/Helsinki:20250723T160000
DTEND;TZID=Europe/Helsinki:20250723T160000
DTSTAMP:20260421T130638
CREATED:20250407T100420Z
LAST-MODIFIED:20250407T100420Z
UID:1223-1753286400-1753286400@www.kksms.fi
SUMMARY:Jänhijoen Paukku
DESCRIPTION:
URL:https://www.kksms.fi/ampumaratapaiva/janhijoen-paukku-19/
END:VEVENT
BEGIN:VEVENT
DTSTART;TZID=Europe/Helsinki:20250726T120000
DTEND;TZID=Europe/Helsinki:20250726T160000
DTSTAMP:20260421T130638
CREATED:20240415T115104Z
LAST-MODIFIED:20250415T170111Z
UID:1123-1753531200-1753545600@www.kksms.fi
SUMMARY:Metsämaan metsästysseura
DESCRIPTION:
URL:https://www.kksms.fi/ampumaratapaiva/metsamaan-metsastysseura-33/
END:VEVENT
BEGIN:VEVENT
DTSTART;TZID=Europe/Helsinki:20250727T140000
DTEND;TZID=Europe/Helsinki:20250727T140000
DTSTAMP:20260421T130638
CREATED:20250606T091420Z
LAST-MODIFIED:20250606T091420Z
UID:1253-1753624800-1753624800@www.kksms.fi
SUMMARY:Kanteenmaan metsästysseura
DESCRIPTION:
URL:https://www.kksms.fi/ampumaratapaiva/kanteenmaan-metsastysseura-20/
END:VEVENT
BEGIN:VEVENT
DTSTART;TZID=Europe/Helsinki:20250730T150000
DTEND;TZID=Europe/Helsinki:20250730T210000
DTSTAMP:20260421T130638
CREATED:20240506T092059Z
LAST-MODIFIED:20250411T181121Z
UID:1155-1753887600-1753909200@www.kksms.fi
SUMMARY:Koijärven metsästysseura
DESCRIPTION:
URL:https://www.kksms.fi/ampumaratapaiva/koijarven-metsastysseura-21/
END:VEVENT
END:VCALENDAR