BEGIN:VCALENDAR
VERSION:2.0
PRODID:-//Kojonkulman Seudun Metsästysseura - ECPv6.15.15//NONSGML v1.0//EN
CALSCALE:GREGORIAN
METHOD:PUBLISH
X-WR-CALNAME:Kojonkulman Seudun Metsästysseura
X-ORIGINAL-URL:https://www.kksms.fi
X-WR-CALDESC:Tapahtumat Kojonkulman Seudun Metsästysseura
REFRESH-INTERVAL;VALUE=DURATION:PT1H
X-Robots-Tag:noindex
X-PUBLISHED-TTL:PT1H
BEGIN:VTIMEZONE
TZID:Europe/Helsinki
BEGIN:DAYLIGHT
TZOFFSETFROM:+0200
TZOFFSETTO:+0300
TZNAME:EEST
DTSTART:20240331T010000
END:DAYLIGHT
BEGIN:STANDARD
TZOFFSETFROM:+0300
TZOFFSETTO:+0200
TZNAME:EET
DTSTART:20241027T010000
END:STANDARD
BEGIN:DAYLIGHT
TZOFFSETFROM:+0200
TZOFFSETTO:+0300
TZNAME:EEST
DTSTART:20250330T010000
END:DAYLIGHT
BEGIN:STANDARD
TZOFFSETFROM:+0300
TZOFFSETTO:+0200
TZNAME:EET
DTSTART:20251026T010000
END:STANDARD
BEGIN:DAYLIGHT
TZOFFSETFROM:+0200
TZOFFSETTO:+0300
TZNAME:EEST
DTSTART:20260329T010000
END:DAYLIGHT
BEGIN:STANDARD
TZOFFSETFROM:+0300
TZOFFSETTO:+0200
TZNAME:EET
DTSTART:20261025T010000
END:STANDARD
END:VTIMEZONE
BEGIN:VEVENT
DTSTART;TZID=Europe/Helsinki:20250802T120000
DTEND;TZID=Europe/Helsinki:20250802T160000
DTSTAMP:20260421T143434
CREATED:20240415T115128Z
LAST-MODIFIED:20250415T170131Z
UID:1126-1754136000-1754150400@www.kksms.fi
SUMMARY:Metsämaan metsästysseura
DESCRIPTION:
URL:https://www.kksms.fi/ampumaratapaiva/metsamaan-metsastysseura-34/
END:VEVENT
BEGIN:VEVENT
DTSTART;TZID=Europe/Helsinki:20250809T120000
DTEND;TZID=Europe/Helsinki:20250809T160000
DTSTAMP:20260421T143434
CREATED:20240415T115159Z
LAST-MODIFIED:20250415T170157Z
UID:1128-1754740800-1754755200@www.kksms.fi
SUMMARY:Metsämaan metsästysseura
DESCRIPTION:
URL:https://www.kksms.fi/ampumaratapaiva/metsamaan-metsastysseura-35/
END:VEVENT
BEGIN:VEVENT
DTSTART;TZID=Europe/Helsinki:20250812T170000
DTEND;TZID=Europe/Helsinki:20250812T170000
DTSTAMP:20260421T143434
CREATED:20250803T061908Z
LAST-MODIFIED:20250803T061908Z
UID:1268-1755018000-1755018000@www.kksms.fi
SUMMARY:Metsämaan metsästysseura
DESCRIPTION:
URL:https://www.kksms.fi/ampumaratapaiva/metsamaan-metsastysseura-37/
END:VEVENT
BEGIN:VEVENT
DTSTART;TZID=Europe/Helsinki:20250813T150000
DTEND;TZID=Europe/Helsinki:20250813T210000
DTSTAMP:20260421T143434
CREATED:20250411T181327Z
LAST-MODIFIED:20250411T181327Z
UID:1232-1755097200-1755118800@www.kksms.fi
SUMMARY:Koijärven metsästysseura
DESCRIPTION:
URL:https://www.kksms.fi/ampumaratapaiva/koijarven-metsastysseura-23/
END:VEVENT
BEGIN:VEVENT
DTSTART;TZID=Europe/Helsinki:20250824T140000
DTEND;TZID=Europe/Helsinki:20250824T140000
DTSTAMP:20260421T143434
CREATED:20250606T091445Z
LAST-MODIFIED:20250606T091445Z
UID:1255-1756044000-1756044000@www.kksms.fi
SUMMARY:Kanteenmaan metsästysseura
DESCRIPTION:
URL:https://www.kksms.fi/ampumaratapaiva/kanteenmaan-metsastysseura-21/
END:VEVENT
BEGIN:VEVENT
DTSTART;TZID=Europe/Helsinki:20250827T160000
DTEND;TZID=Europe/Helsinki:20250827T160000
DTSTAMP:20260421T143434
CREATED:20250407T100508Z
LAST-MODIFIED:20250407T100508Z
UID:1225-1756310400-1756310400@www.kksms.fi
SUMMARY:Jänhijoen Paukku
DESCRIPTION:
URL:https://www.kksms.fi/ampumaratapaiva/janhijoen-paukku-20/
END:VEVENT
END:VCALENDAR